Workbook

Sheet Sheet1
A1: 2018년도 제3회 경기도 지방공무원 경력경쟁임용 필기시험 응시현황
A3: 번호 | B3: 직렬(류) | C3: 임용기관 | D3: 선발인원 | E3: 출원인원 | F3: 응시인원 | G3: 응시율
B4: 총합계 | D4: 77 | E4: =SUM(E5:E41) -> 2276 | F4: =SUM(F5:F41) -> 1604 | G4: =Sheet1!$F4/Sheet1!$E4 -> 0.70474517
A5: 1 | B5: 학예연구사(학예일반) | C5: 경기도 | D5: 3 | E5: 254 | F5: 171 | G5: =Sheet1!$F5/Sheet1!$E5 -> 0.67322835
C6: 수원시 | D6: 2 | E6: 110 | F6: 81 | G6: =Sheet1!$F6/Sheet1!$E6 -> 0.73636364
C7: 안산시 | D7: 3 | E7: 99 | F7: 73 | G7: =Sheet1!$F7/Sheet1!$E7 -> 0.73737374
C8: 하남시 | D8: 1 | E8: 40 | F8: 29 | G8: =Sheet1!$F8/Sheet1!$E8 -> 0.725
A9: 2 | B9: 기록연구사(기록관리) | C9: 경기도 | D9: 1 | E9: 65 | F9: 36 | G9: =Sheet1!$F9/Sheet1!$E9 -> 0.55384615
C10: 화성시 | D10: 2 | E10: 67 | F10: 45 | G10: =Sheet1!$F10/Sheet1!$E10 -> 0.67164179
C11: 가평군 | D11: 1 | E11: 19 | F11: 13 | G11: =Sheet1!$F11/Sheet1!$E11 -> 0.68421053
A12: 3 | B12: 농업연구사(작물) | C12: 경기도 | D12: 4 | E12: 223 | F12: 155 | G12: =Sheet1!$F12/Sheet1!$E12 -> 0.69506726
C13: 화성시 | D13: 1 | E13: 10 | F13: 4 | G13: =Sheet1!$F13/Sheet1!$E13 -> 0.4
A14: 4 | B14: 농업연구사(작물보호) | C14: 경기도 | D14: 1 | E14: 34 | F14: 23 | G14: =Sheet1!$F14/Sheet1!$E14 -> 0.67647059
A15: 5 | B15: 농업연구사(농업경영) | C15: 경기도 | D15: 1 | E15: 21 | F15: 14 | G15: =Sheet1!$F15/Sheet1!$E15 -> 0.66666667
A16: 6 | B16: 농업연구사(농식품개발) | C16: 이천시 | D16: 1 | E16: 46 | F16: 26 | G16: =Sheet1!$F16/Sheet1!$E16 -> 0.56521739
A17: 7 | B17: 녹지연구사(임업) | C17: 경기도 | D17: 2 | E17: 26 | F17: 18 | G17: =Sheet1!$F17/Sheet1!$E17 -> 0.69230769
C18: 화성시 | D18: 1 | E18: 8 | F18: 7 | G18: =Sheet1!$F18/Sheet1!$E18 -> 0.875
C19: 하남시 | D19: 1 | E19: 8 | F19: 6 | G19: =Sheet1!$F19/Sheet1!$E19 -> 0.75
A20: 8 | B20: 해양수산연구사(수산양식) | C20: 경기도 | D20: 4 | E20: 55 | F20: 42 | G20: =Sheet1!$F20/Sheet1!$E20 -> 0.76363636
A21: 9 | B21: 보건연구사(의학) | C21: 경기도 | D21: 3 | E21: 77 | F21: 52 | G21: =Sheet1!$F21/Sheet1!$E21 -> 0.67532468
A22: 10 | B22: 보건연구사(공중보건) | C22: 경기도 | D22: 5 | E22: 165 | F22: 112 | G22: =Sheet1!$F22/Sheet1!$E22 -> 0.67878788
A23: 11 | B23: 환경연구사(환경) | C23: 경기도 | D23: 8 | E23: 287 | F23: 201 | G23: =Sheet1!$F23/Sheet1!$E23 -> 0.70034843
C24: 안산시 | D24: 1 | E24: 8 | F24: 6 | G24: =Sheet1!$F24/Sheet1!$E24 -> 0.75
C25: 김포시 | D25: 1 | E25: 12 | F25: 8 | G25: =Sheet1!$F25/Sheet1!$E25 -> 0.66666667
A26: 12 | B26: 농촌지도사(농업) | C26: 경기도 | D26: 1 | E26: 54 | F26: 40 | G26: =Sheet1!$F26/Sheet1!$E26 -> 0.74074074
C27: 수원시 | D27: 1 | E27: 47 | F27: 36 | G27: =Sheet1!$F27/Sheet1!$E27 -> 0.76595745
C28: 용인시 | D28: 1 | E28: 17 | F28: 13 | G28: =Sheet1!$F28/Sheet1!$E28 -> 0.76470588
C29: 화성시 | D29: 6 | E29: 157 | F29: 117 | G29: =Sheet1!$F29/Sheet1!$E29 -> 0.74522293
C30: 남양주시 | D30: 1 | E30: 23 | F30: 13 | G30: =Sheet1!$F30/Sheet1!$E30 -> 0.56521739
C31: 평택시 | D31: 1 | E31: 24 | F31: 18 | G31: =Sheet1!$F31/Sheet1!$E31 -> 0.75
C32: 파주시 | D32: 5 | E32: 82 | F32: 66 | G32: =Sheet1!$F32/Sheet1!$E32 -> 0.80487805
C33: 시흥시 | D33: 1 | E33: 25 | F33: 18 | G33: =Sheet1!$F33/Sheet1!$E33 -> 0.72
C34: 이천시 | D34: 2 | E34: 48 | F34: 37 | G34: =Sheet1!$F34/Sheet1!$E34 -> 0.77083333
C35: 양주시 | D35: 1 | E35: 9 | F35: 8 | G35: =Sheet1!$F35/Sheet1!$E35 -> 0.88888889
C36: 안성시 | D36: 1 | E36: 21 | F36: 14 | G36: =Sheet1!$F36/Sheet1!$E36 -> 0.66666667
C37: 포천시 | D37: 1 | E37: 16 | F37: 14 | G37: =Sheet1!$F37/Sheet1!$E37 -> 0.875
C38: 양평군 | D38: 1 | E38: 13 | F38: 10 | G38: =Sheet1!$F38/Sheet1!$E38 -> 0.76923077
... C41: 연천군 | D41: 2 | E41: 31 | F41: 24 | G41: =Sheet1!$F41/Sheet1!$E41 -> 0.77419355
